BEGIN:VCALENDAR
VERSION:2.0
PRODID:-//Dance Impressions Productions - ECPv6.2.9//NONSGML v1.0//EN
CALSCALE:GREGORIAN
METHOD:PUBLISH
X-WR-CALNAME:Dance Impressions Productions
X-ORIGINAL-URL:https://www.danceimpressionsproductions.com
X-WR-CALDESC:Events for Dance Impressions Productions
REFRESH-INTERVAL;VALUE=DURATION:PT1H
X-Robots-Tag:noindex
X-PUBLISHED-TTL:PT1H
BEGIN:VTIMEZONE
TZID:UTC
BEGIN:STANDARD
TZOFFSETFROM:+0000
TZOFFSETTO:+0000
TZNAME:UTC
DTSTART:20240101T000000
END:STANDARD
END:VTIMEZONE
BEGIN:VEVENT
DTSTART;TZID=UTC:20241103T090000
DTEND;TZID=UTC:20241103T100000
DTSTAMP:20260420T095221
CREATED:20241110T183938Z
LAST-MODIFIED:20241110T183938Z
UID:4779-1730624400-1730628000@www.danceimpressionsproductions.com
SUMMARY:Ballet A/B
DESCRIPTION:The Ballet Level A/B course is designed to introduce students to the fundamental principles of ballet\, a cornerstone of all dance forms. In this course\, students will learn the classical techniques that form the basis of ballet\, including proper posture\, alignment\, and basic positions and movements. Emphasis will be placed on developing strength\, flexibility\, and coordination\, as well as an understanding of musicality and rhythm. Through structured exercises and creative exploration\, students will develop a solid foundation in ballet\, preparing them for further study in dance. This course is suitable for beginners and those with some prior experience in ballet. \nInstructor: Isabella
URL:https://www.danceimpressionsproductions.com/calendars/ballet-a-b-41/
LOCATION:STC Center\, 1040 S. Otterbein\, Rowland Heights\, 91748\, United States
CATEGORIES:ballet,class
ATTACH;FMTTYPE=image/webp:https://www.danceimpressionsproductions.com/wp-content/uploads/2023/10/ca15d6ac1f484ddf2e38ae282e4eb8dd3a5faab9_2000x2000.webp
END:VEVENT
BEGIN:VEVENT
DTSTART;TZID=UTC:20241103T100000
DTEND;TZID=UTC:20241103T110000
DTSTAMP:20260420T095221
CREATED:20241110T184502Z
LAST-MODIFIED:20241110T184502Z
UID:4785-1730628000-1730631600@www.danceimpressionsproductions.com
SUMMARY:Ballet C
DESCRIPTION:Ballet Level C is an introductory course designed for beginners with no prior experience in ballet. This course focuses on the fundamental principles and basic techniques of ballet\, providing a solid foundation in this classical dance form. Students will learn essential ballet positions\, simple steps\, and basic combinations\, all while developing coordination\, balance\, and an appreciation for the artistry of ballet. This course is perfect for those looking to take their first steps in the world of dance. \nInstructor: Isabella
URL:https://www.danceimpressionsproductions.com/calendars/ballet-c-39/
LOCATION:STC Center\, 1040 S. Otterbein\, Rowland Heights\, 91748\, United States
CATEGORIES:ballet,class
ATTACH;FMTTYPE=image/jpeg:https://www.danceimpressionsproductions.com/wp-content/uploads/2023/10/depositphotos_376561508-stock-video-flexible-children-ballet-dancers-doing.jpg
END:VEVENT
BEGIN:VEVENT
DTSTART;TZID=UTC:20241110T090000
DTEND;TZID=UTC:20241110T100000
DTSTAMP:20260420T095221
CREATED:20241110T184100Z
LAST-MODIFIED:20241110T184238Z
UID:4781-1731229200-1731232800@www.danceimpressionsproductions.com
SUMMARY:Ballet A/B
DESCRIPTION:The Ballet Level A/B course is designed to introduce students to the fundamental principles of ballet\, a cornerstone of all dance forms. In this course\, students will learn the classical techniques that form the basis of ballet\, including proper posture\, alignment\, and basic positions and movements. Emphasis will be placed on developing strength\, flexibility\, and coordination\, as well as an understanding of musicality and rhythm. Through structured exercises and creative exploration\, students will develop a solid foundation in ballet\, preparing them for further study in dance. This course is suitable for beginners and those with some prior experience in ballet. \nInstructor: Isabella
URL:https://www.danceimpressionsproductions.com/calendars/ballet-a-b-42/
LOCATION:STC Center\, 1040 S. Otterbein\, Rowland Heights\, 91748\, United States
CATEGORIES:ballet,class
ATTACH;FMTTYPE=image/webp:https://www.danceimpressionsproductions.com/wp-content/uploads/2023/10/ca15d6ac1f484ddf2e38ae282e4eb8dd3a5faab9_2000x2000.webp
END:VEVENT
BEGIN:VEVENT
DTSTART;TZID=UTC:20241110T100000
DTEND;TZID=UTC:20241110T110000
DTSTAMP:20260420T095221
CREATED:20241110T184543Z
LAST-MODIFIED:20241110T184554Z
UID:4787-1731232800-1731236400@www.danceimpressionsproductions.com
SUMMARY:Ballet C
DESCRIPTION:Ballet Level C is an introductory course designed for beginners with no prior experience in ballet. This course focuses on the fundamental principles and basic techniques of ballet\, providing a solid foundation in this classical dance form. Students will learn essential ballet positions\, simple steps\, and basic combinations\, all while developing coordination\, balance\, and an appreciation for the artistry of ballet. This course is perfect for those looking to take their first steps in the world of dance. \nInstructor: Isabella
URL:https://www.danceimpressionsproductions.com/calendars/ballet-c-40/
LOCATION:STC Center\, 1040 S. Otterbein\, Rowland Heights\, 91748\, United States
CATEGORIES:ballet,class
ATTACH;FMTTYPE=image/jpeg:https://www.danceimpressionsproductions.com/wp-content/uploads/2023/10/depositphotos_376561508-stock-video-flexible-children-ballet-dancers-doing.jpg
END:VEVENT
BEGIN:VEVENT
DTSTART;TZID=UTC:20241117T090000
DTEND;TZID=UTC:20241117T100000
DTSTAMP:20260420T095221
CREATED:20241110T184210Z
LAST-MODIFIED:20241110T184321Z
UID:4783-1731834000-1731837600@www.danceimpressionsproductions.com
SUMMARY:Ballet A/B
DESCRIPTION:The Ballet Level A/B course is designed to introduce students to the fundamental principles of ballet\, a cornerstone of all dance forms. In this course\, students will learn the classical techniques that form the basis of ballet\, including proper posture\, alignment\, and basic positions and movements. Emphasis will be placed on developing strength\, flexibility\, and coordination\, as well as an understanding of musicality and rhythm. Through structured exercises and creative exploration\, students will develop a solid foundation in ballet\, preparing them for further study in dance. This course is suitable for beginners and those with some prior experience in ballet. \nInstructor: Isabella
URL:https://www.danceimpressionsproductions.com/calendars/ballet-a-b-43/
LOCATION:STC Center\, 1040 S. Otterbein\, Rowland Heights\, 91748\, United States
CATEGORIES:ballet,class
ATTACH;FMTTYPE=image/webp:https://www.danceimpressionsproductions.com/wp-content/uploads/2023/10/ca15d6ac1f484ddf2e38ae282e4eb8dd3a5faab9_2000x2000.webp
END:VEVENT
BEGIN:VEVENT
DTSTART;TZID=UTC:20241117T100000
DTEND;TZID=UTC:20241117T110000
DTSTAMP:20260420T095221
CREATED:20241110T184647Z
LAST-MODIFIED:20241110T184702Z
UID:4789-1731837600-1731841200@www.danceimpressionsproductions.com
SUMMARY:Ballet C
DESCRIPTION:Ballet Level C is an introductory course designed for beginners with no prior experience in ballet. This course focuses on the fundamental principles and basic techniques of ballet\, providing a solid foundation in this classical dance form. Students will learn essential ballet positions\, simple steps\, and basic combinations\, all while developing coordination\, balance\, and an appreciation for the artistry of ballet. This course is perfect for those looking to take their first steps in the world of dance. \nInstructor: Isabella
URL:https://www.danceimpressionsproductions.com/calendars/ballet-c-41/
LOCATION:STC Center\, 1040 S. Otterbein\, Rowland Heights\, 91748\, United States
CATEGORIES:ballet,class
ATTACH;FMTTYPE=image/jpeg:https://www.danceimpressionsproductions.com/wp-content/uploads/2023/10/depositphotos_376561508-stock-video-flexible-children-ballet-dancers-doing.jpg
END:VEVENT
END:VCALENDAR