BEGIN:VCALENDAR
VERSION:2.0
PRODID:-//Dance Impressions Productions - ECPv6.2.9//NONSGML v1.0//EN
CALSCALE:GREGORIAN
METHOD:PUBLISH
X-WR-CALNAME:Dance Impressions Productions
X-ORIGINAL-URL:https://www.danceimpressionsproductions.com
X-WR-CALDESC:Events for Dance Impressions Productions
REFRESH-INTERVAL;VALUE=DURATION:PT1H
X-Robots-Tag:noindex
X-PUBLISHED-TTL:PT1H
BEGIN:VTIMEZONE
TZID:UTC
BEGIN:STANDARD
TZOFFSETFROM:+0000
TZOFFSETTO:+0000
TZNAME:UTC
DTSTART:20240101T000000
END:STANDARD
END:VTIMEZONE
BEGIN:VEVENT
DTSTART;TZID=UTC:20240114T090000
DTEND;TZID=UTC:20240114T100000
DTSTAMP:20260422T221522
CREATED:20231231T022507Z
LAST-MODIFIED:20231231T022507Z
UID:4178-1705222800-1705226400@www.danceimpressionsproductions.com
SUMMARY:Ballet A/B
DESCRIPTION:The Ballet Level A/B course is designed to introduce students to the fundamental principles of ballet\, a cornerstone of all dance forms. In this course\, students will learn the classical techniques that form the basis of ballet\, including proper posture\, alignment\, and basic positions and movements. Emphasis will be placed on developing strength\, flexibility\, and coordination\, as well as an understanding of musicality and rhythm. Through structured exercises and creative exploration\, students will develop a solid foundation in ballet\, preparing them for further study in dance. This course is suitable for beginners and those with some prior experience in ballet. \nInstructor: Allison
URL:https://www.danceimpressionsproductions.com/calendars/ballet-a-b-8/
LOCATION:STC Center\, 1040 S. Otterbein\, Rowland Heights\, 91748\, United States
CATEGORIES:ballet,class
ATTACH;FMTTYPE=image/webp:https://www.danceimpressionsproductions.com/wp-content/uploads/2023/10/ca15d6ac1f484ddf2e38ae282e4eb8dd3a5faab9_2000x2000.webp
END:VEVENT
BEGIN:VEVENT
DTSTART;TZID=UTC:20240114T100000
DTEND;TZID=UTC:20240114T110000
DTSTAMP:20260422T221522
CREATED:20231231T022918Z
LAST-MODIFIED:20231231T022918Z
UID:4186-1705226400-1705230000@www.danceimpressionsproductions.com
SUMMARY:Ballet C
DESCRIPTION:Ballet Level C is an introductory course designed for beginners with no prior experience in ballet. This course focuses on the fundamental principles and basic techniques of ballet\, providing a solid foundation in this classical dance form. Students will learn essential ballet positions\, simple steps\, and basic combinations\, all while developing coordination\, balance\, and an appreciation for the artistry of ballet. This course is perfect for those looking to take their first steps in the world of dance. \nInstructor: Allison
URL:https://www.danceimpressionsproductions.com/calendars/ballet-c-8/
LOCATION:STC Center\, 1040 S. Otterbein\, Rowland Heights\, 91748\, United States
CATEGORIES:ballet,class
ATTACH;FMTTYPE=image/jpeg:https://www.danceimpressionsproductions.com/wp-content/uploads/2023/10/depositphotos_376561508-stock-video-flexible-children-ballet-dancers-doing.jpg
END:VEVENT
END:VCALENDAR