BEGIN:VCALENDAR
VERSION:2.0
PRODID:-//Dance Impressions Productions - ECPv6.2.9//NONSGML v1.0//EN
CALSCALE:GREGORIAN
METHOD:PUBLISH
X-ORIGINAL-URL:https://www.danceimpressionsproductions.com
X-WR-CALDESC:Events for Dance Impressions Productions
REFRESH-INTERVAL;VALUE=DURATION:PT1H
X-Robots-Tag:noindex
X-PUBLISHED-TTL:PT1H
BEGIN:VTIMEZONE
TZID:UTC
BEGIN:STANDARD
TZOFFSETFROM:+0000
TZOFFSETTO:+0000
TZNAME:UTC
DTSTART:20240101T000000
END:STANDARD
END:VTIMEZONE
BEGIN:VEVENT
DTSTART;TZID=UTC:20241110T130000
DTEND;TZID=UTC:20241110T180000
DTSTAMP:20260420T080751
CREATED:20241110T191010Z
LAST-MODIFIED:20241110T191042Z
UID:4824-1731243600-1731261600@www.danceimpressionsproductions.com
SUMMARY:Winter Showcase Rehearsal
DESCRIPTION:Winter Showcase Rehearsal (Studio Private Event)
URL:https://www.danceimpressionsproductions.com/calendars/winter-showcase-rehearsal/
LOCATION:STC Center\, 1040 S. Otterbein\, Rowland Heights\, 91748\, United States
CATEGORIES:recital
ATTACH;FMTTYPE=image/jpeg:https://www.danceimpressionsproductions.com/wp-content/uploads/2024/10/2024WinterShowcaseFlyer_FINAL-scaled.jpg
END:VEVENT
END:VCALENDAR